BEGIN:VCALENDAR
VERSION:2.0
PRODID:-//Alpine Wine Tours Queenstown - ECPv5.14.1//NONSGML v1.0//EN
CALSCALE:GREGORIAN
METHOD:PUBLISH
X-WR-CALNAME:Alpine Wine Tours Queenstown
X-ORIGINAL-URL:https://alpinewinetours.co.nz
X-WR-CALDESC:Events for Alpine Wine Tours Queenstown
BEGIN:VTIMEZONE
TZID:Pacific/Auckland
BEGIN:STANDARD
TZOFFSETFROM:+1300
TZOFFSETTO:+1200
TZNAME:NZST
DTSTART:20180331T140000
END:STANDARD
BEGIN:DAYLIGHT
TZOFFSETFROM:+1200
TZOFFSETTO:+1300
TZNAME:NZDT
DTSTART:20180929T140000
END:DAYLIGHT
END:VTIMEZONE
BEGIN:VEVENT
DTSTART;TZID=Pacific/Auckland:20181024T183000
DTEND;TZID=Pacific/Auckland:20181024T220000
DTSTAMP:20260424T185758
CREATED:20181003T231829Z
LAST-MODIFIED:20181003T231829Z
UID:1684-1540405800-1540418400@alpinewinetours.co.nz
SUMMARY:Yealands Winemakers Dinner at Botswana Butchery
DESCRIPTION:You’re invited to our Yealands Winemakers Dinner on\nWednesday 24th October featuring five sumptuous courses expertly\nmatched with some of Yealands finest wines for $175pp. \nWinemaker Jeremy Tod will guide guests through each wine and explore how their winery systems work together to ensure they operate at the highest levels of efficiency and sustainability reflecting the expertise of their winemakers and the very best our land has to offer. \n\nThis unique event will be held in our beautiful private Owners Room and tickets are extremely limited!
URL:https://alpinewinetours.co.nz/event/yealands-winemakers-dinner-at-botswana-butchery/
LOCATION:Botswana Butchery\, 17 Marine Parade\, Queenstown\, New Zealand
END:VEVENT
END:VCALENDAR