BEGIN:VCALENDAR
VERSION:2.0
PRODID:-//Alpine Wine Tours Queenstown - ECPv5.14.1//NONSGML v1.0//EN
CALSCALE:GREGORIAN
METHOD:PUBLISH
X-WR-CALNAME:Alpine Wine Tours Queenstown
X-ORIGINAL-URL:https://alpinewinetours.co.nz
X-WR-CALDESC:Events for Alpine Wine Tours Queenstown
BEGIN:VTIMEZONE
TZID:Pacific/Auckland
BEGIN:STANDARD
TZOFFSETFROM:+1300
TZOFFSETTO:+1200
TZNAME:NZST
DTSTART:20180331T140000
END:STANDARD
BEGIN:DAYLIGHT
TZOFFSETFROM:+1200
TZOFFSETTO:+1300
TZNAME:NZDT
DTSTART:20180929T140000
END:DAYLIGHT
END:VTIMEZONE
BEGIN:VEVENT
DTSTART;VALUE=DATE:20180901
DTEND;VALUE=DATE:20180910
DTSTAMP:20260424T183438
CREATED:20180803T020604Z
LAST-MODIFIED:20180803T020604Z
UID:1550-1535760000-1536537599@alpinewinetours.co.nz
SUMMARY:Winter Pride
DESCRIPTION:What is the Gay Ski Week QT and Winter Pride ’18 Festival?\nGay Ski Week QT is transforming into Winter Pride\, a festival in a small town with a bold heart that celebrates love\, community\, diversity\, visibility and inclusion. It is a festival that encourages locals and visitors alike to come together and celebrate their diversity. \nJam-packed with amazing events\, including cabaret nights\, massive dance parties and night skiing\, the festival is the perfect week for people to show their true selves in an accepting\, supportive and fun community. \nHeld annually\, Queenstown is one of the best places in the world to host such a festival. As well as being the adventure capital of the world\, it’s also a top tourist destination and is full of supportive local businesses and people who welcome and encourage our community’s growing demographic. \nOur guests are 45% Australian\, 45% NZ\, with the rest everywhere else. Around half of our guest repeat visit Queenstown at another date and return to our Winter Pride festival in a following year. \nWe now have 10\,000+ Instagram followers and 5000+ Facebook followers\, so be sure to like and follow us on social media to keep up to date with new events and pic ostings of your favouire moments during the festival. \nWe sell 4\,500+ tickets to our Pride Events annually in Queenstown and thousands more attend Gay Ski Week QT’s free and non-ticketed events.
URL:https://alpinewinetours.co.nz/event/winter-pride/
LOCATION:Queenstown\, Queenstown\, New Zealand
ATTACH;FMTTYPE=image/png:https://alpinewinetours.co.nz/wp-content/uploads/2018/08/Winter-Pride.png
END:VEVENT
END:VCALENDAR