BEGIN:VCALENDAR
VERSION:2.0
PRODID:-//Alpine Wine Tours Queenstown - ECPv5.14.1//NONSGML v1.0//EN
CALSCALE:GREGORIAN
METHOD:PUBLISH
X-WR-CALNAME:Alpine Wine Tours Queenstown
X-ORIGINAL-URL:https://alpinewinetours.co.nz
X-WR-CALDESC:Events for Alpine Wine Tours Queenstown
BEGIN:VTIMEZONE
TZID:Pacific/Auckland
BEGIN:STANDARD
TZOFFSETFROM:+1300
TZOFFSETTO:+1200
TZNAME:NZST
DTSTART:20180331T140000
END:STANDARD
BEGIN:DAYLIGHT
TZOFFSETFROM:+1200
TZOFFSETTO:+1300
TZNAME:NZDT
DTSTART:20180929T140000
END:DAYLIGHT
END:VTIMEZONE
BEGIN:VEVENT
DTSTART;TZID=Pacific/Auckland:20180905T160000
DTEND;TZID=Pacific/Auckland:20180905T210000
DTSTAMP:20260424T151902
CREATED:20180813T010114Z
LAST-MODIFIED:20180813T010114Z
UID:1599-1536163200-1536181200@alpinewinetours.co.nz
SUMMARY:Veuve Clicquot Wednesday Night Ski
DESCRIPTION:On Wednesday\, Veuve Clicquot adds a splash of luxury to night ski and makes for an unforgettable après experience. Cruise down M1 and top off your night with a glass of bubbles while listening to the sounds of some amazing DJs. \n 
URL:https://alpinewinetours.co.nz/event/veuve-clicquot-wednesday-night-ski-4/
LOCATION:Coronet Peak\, 387 Coronet Peak Road\, Queenstown\, New Zealand
ATTACH;FMTTYPE=image/jpeg:https://alpinewinetours.co.nz/wp-content/uploads/2018/08/Veuve-Clicquot-Wednesday-Night-Ski.jpg
END:VEVENT
END:VCALENDAR