BEGIN:VCALENDAR
VERSION:2.0
PRODID:-//Alpine Wine Tours Queenstown - ECPv5.14.1//NONSGML v1.0//EN
CALSCALE:GREGORIAN
METHOD:PUBLISH
X-WR-CALNAME:Alpine Wine Tours Queenstown
X-ORIGINAL-URL:https://alpinewinetours.co.nz
X-WR-CALDESC:Events for Alpine Wine Tours Queenstown
BEGIN:VTIMEZONE
TZID:Pacific/Auckland
BEGIN:STANDARD
TZOFFSETFROM:+1300
TZOFFSETTO:+1200
TZNAME:NZST
DTSTART:20190406T140000
END:STANDARD
BEGIN:DAYLIGHT
TZOFFSETFROM:+1200
TZOFFSETTO:+1300
TZNAME:NZDT
DTSTART:20190928T140000
END:DAYLIGHT
END:VTIMEZONE
BEGIN:VEVENT
DTSTART;VALUE=DATE:20190801
DTEND;VALUE=DATE:20190805
DTSTAMP:20260424T153610
CREATED:20190712T004745Z
LAST-MODIFIED:20190712T004745Z
UID:2152-1564617600-1564963199@alpinewinetours.co.nz
SUMMARY:Veuve Clicquot in the Snow Program
DESCRIPTION:Veuve Clicquot brings the highly anticipated Clicquot in the Snow festival from August 1st – 4th\,  2019 to Queenstown\, New Zealand. This year builds on both the local and international success which has seen this iconic winter experience become a must attend event.\nThis will be the ninth year that Clicquot in the Snow has been held in the majestic resort town of Queenstown celebrating all things winter\, with an iconic Veuve Clicquot twist.
URL:https://alpinewinetours.co.nz/event/veuve-clicquot-in-the-snow-program/
LOCATION:Queenstown\, Queenstown\, New Zealand
END:VEVENT
END:VCALENDAR