BEGIN:VCALENDAR
VERSION:2.0
PRODID:-//Alpine Wine Tours Queenstown - ECPv5.14.1//NONSGML v1.0//EN
CALSCALE:GREGORIAN
METHOD:PUBLISH
X-WR-CALNAME:Alpine Wine Tours Queenstown
X-ORIGINAL-URL:https://alpinewinetours.co.nz
X-WR-CALDESC:Events for Alpine Wine Tours Queenstown
BEGIN:VTIMEZONE
TZID:Pacific/Auckland
BEGIN:STANDARD
TZOFFSETFROM:+1300
TZOFFSETTO:+1200
TZNAME:NZST
DTSTART:20180331T140000
END:STANDARD
BEGIN:DAYLIGHT
TZOFFSETFROM:+1200
TZOFFSETTO:+1300
TZNAME:NZDT
DTSTART:20180929T140000
END:DAYLIGHT
END:VTIMEZONE
BEGIN:VEVENT
DTSTART;TZID=Pacific/Auckland:20180821T193000
DTEND;TZID=Pacific/Auckland:20180821T213000
DTSTAMP:20260424T215958
CREATED:20180802T222950Z
LAST-MODIFIED:20180802T223032Z
UID:1542-1534879800-1534887000@alpinewinetours.co.nz
SUMMARY:Turning Points Queenstown - Cloudy Bay wines - Lodge at The Hills
DESCRIPTION:New Zealand String Quartet – Turning Points \nJoin us at the exclusive Lodge at the Hills for a special evening of fine wine and music\, including complimentary Cloudy Bay wines and canapés. \nThe concert will feature groundbreaking works that have each taken the quartet genre in new directions\, including Beethoven’s extraordinary opus 131 quartet\, which Robert Schumann felt stood “…on the extreme boundary of all that has hitherto been attained by human art and imagination.” Also included is Smetana’s poignant\, semi-autobiographical “From My Life” and the extraordinary Abhisheka by New Zealand’s own John Psathas. \nProgramme 2 \nPsathas: Abhisheka \nBeethoven: String Quartet No. 14 in C♯ minor\, Op. 131 \nSmetana: String Quartet No. 1 in E minor (“From My Life”) \nTicket Information: $80\, price includes refreshments\, no online bookings. To book tickets contact us: nzsq@nzsq.org.nz
URL:https://alpinewinetours.co.nz/event/turning-points-queenstown-cloudy-bay-wines-lodge-at-the-hills/
LOCATION:Lodge at The Hills\, McDonnell Road\, Arrowtown\, Queenstown\, New Zealand
ATTACH;FMTTYPE=image/jpeg:https://alpinewinetours.co.nz/wp-content/uploads/2018/08/Turning-Points.jpg
END:VEVENT
END:VCALENDAR