BEGIN:VCALENDAR
VERSION:2.0
PRODID:-//Alpine Wine Tours Queenstown - ECPv5.14.1//NONSGML v1.0//EN
CALSCALE:GREGORIAN
METHOD:PUBLISH
X-WR-CALNAME:Alpine Wine Tours Queenstown
X-ORIGINAL-URL:https://alpinewinetours.co.nz
X-WR-CALDESC:Events for Alpine Wine Tours Queenstown
BEGIN:VTIMEZONE
TZID:Pacific/Auckland
BEGIN:STANDARD
TZOFFSETFROM:+1300
TZOFFSETTO:+1200
TZNAME:NZST
DTSTART:20180331T140000
END:STANDARD
BEGIN:DAYLIGHT
TZOFFSETFROM:+1200
TZOFFSETTO:+1300
TZNAME:NZDT
DTSTART:20180929T140000
END:DAYLIGHT
END:VTIMEZONE
BEGIN:VEVENT
DTSTART;TZID=Pacific/Auckland:20180804T183000
DTEND;TZID=Pacific/Auckland:20180804T230000
DTSTAMP:20260424T232450
CREATED:20180802T220913Z
LAST-MODIFIED:20180802T220913Z
UID:1525-1533407400-1533423600@alpinewinetours.co.nz
SUMMARY:The Rees Culinary Series with Quartz Reef Winery
DESCRIPTION:The Rees’ Winemaker’s Culinary Series are the benchmark in food and beverage luxury and we are delighted to announce our next installment of The Rees Culinary Series – this time with the iconic Quartz Reef Winery. \nHosted by GM of The Rees Hotel Mark Rose and wine legend and owner of Quartz Reef\, Rudi Bauer\, guests can try an outstanding array of wines while tasting the sophisticated\, elegant flavours from True South Dining Room’s awarded executive chef\, Ben Batterbury. \nRudi’s Austrian heritage and two decades of winemaking experience give Quartz Reef wines further dimension and variety. The Pinot Noir is the spirit of Central Otago while the Pinot Gris takes on a rich\, dry\, textured flavour.
URL:https://alpinewinetours.co.nz/event/the-rees-culinary-series-with-quartz-reef-winery/
LOCATION:The Rees Hotel\, Luxury Apartments & Lakeside Residences\, 377 Frankton Road\, Queenstown\, New Zealand
ATTACH;FMTTYPE=image/jpeg:https://alpinewinetours.co.nz/wp-content/uploads/2018/08/The-Rees-Culinary-Series-with-Quartz-Reef-Winery.jpg
END:VEVENT
END:VCALENDAR