BEGIN:VCALENDAR
VERSION:2.0
PRODID:-//Alpine Wine Tours Queenstown - ECPv5.14.1//NONSGML v1.0//EN
CALSCALE:GREGORIAN
METHOD:PUBLISH
X-WR-CALNAME:Alpine Wine Tours Queenstown
X-ORIGINAL-URL:https://alpinewinetours.co.nz
X-WR-CALDESC:Events for Alpine Wine Tours Queenstown
BEGIN:VTIMEZONE
TZID:Pacific/Auckland
BEGIN:STANDARD
TZOFFSETFROM:+1300
TZOFFSETTO:+1200
TZNAME:NZST
DTSTART:20180331T140000
END:STANDARD
BEGIN:DAYLIGHT
TZOFFSETFROM:+1200
TZOFFSETTO:+1300
TZNAME:NZDT
DTSTART:20180929T140000
END:DAYLIGHT
END:VTIMEZONE
BEGIN:VEVENT
DTSTART;TZID=Pacific/Auckland:20180928T183000
DTEND;TZID=Pacific/Auckland:20180928T230000
DTSTAMP:20260424T133240
CREATED:20180802T221243Z
LAST-MODIFIED:20180802T221344Z
UID:1529-1538159400-1538175600@alpinewinetours.co.nz
SUMMARY:The Rees Culinary Series with Felton Road
DESCRIPTION:The Rees’ Winemaker’s Culinary Series are the benchmark in food and beverage luxury and we are delighted to announce our next installment of The Rees Culinary Series – this time with the iconic Felton Road. \nMore information to come closer to the time.
URL:https://alpinewinetours.co.nz/event/the-rees-culinary-series-with-felton-road/
LOCATION:The Rees Hotel\, Luxury Apartments & Lakeside Residences\, 377 Frankton Road\, Queenstown\, New Zealand
ATTACH;FMTTYPE=image/jpeg:https://alpinewinetours.co.nz/wp-content/uploads/2018/08/The-Rees-Culinary-Series-with-Felton-Road.jpg
END:VEVENT
END:VCALENDAR