BEGIN:VCALENDAR
VERSION:2.0
PRODID:-//Alpine Wine Tours Queenstown - ECPv5.14.1//NONSGML v1.0//EN
CALSCALE:GREGORIAN
METHOD:PUBLISH
X-WR-CALNAME:Alpine Wine Tours Queenstown
X-ORIGINAL-URL:https://alpinewinetours.co.nz
X-WR-CALDESC:Events for Alpine Wine Tours Queenstown
BEGIN:VTIMEZONE
TZID:Pacific/Auckland
BEGIN:STANDARD
TZOFFSETFROM:+1300
TZOFFSETTO:+1200
TZNAME:NZST
DTSTART:20180331T140000
END:STANDARD
BEGIN:DAYLIGHT
TZOFFSETFROM:+1200
TZOFFSETTO:+1300
TZNAME:NZDT
DTSTART:20180929T140000
END:DAYLIGHT
END:VTIMEZONE
BEGIN:VEVENT
DTSTART;TZID=Pacific/Auckland:20180921T183000
DTEND;TZID=Pacific/Auckland:20180921T233000
DTSTAMP:20260424T134325
CREATED:20180917T221024Z
LAST-MODIFIED:20180917T221024Z
UID:1627-1537554600-1537572600@alpinewinetours.co.nz
SUMMARY:The Colliers International Grape Debate
DESCRIPTION:The Colliers International Central Otago 2018 Grape debate moot is “It’s the Vineyard guys that deserve the credit not the Winemakers”. All proceeds for the Central Otago event will go to a local Charity Sticks and Stones Sticks ‘n’ Stones \nTeams for the 2018 Central Otago Debate are \nWinemakers\nDan Dineen from Maude Wines\nDuncan Forsyth from Mount Edward Winery\nPaul Pujol from Prophets Rock \nViticulturists\nGary Crabbe from Precision viticulture\nMike Winters from Tekano Estate\nEdwin Haycock Viticulture technical advisor for Farmlands
URL:https://alpinewinetours.co.nz/event/the-colliers-international-grape-debate/
LOCATION:The Winehouse\, Sh 6 / 1693 Gibbston Highway\, Queenstown\, New Zealand
ATTACH;FMTTYPE=image/jpeg:https://alpinewinetours.co.nz/wp-content/uploads/2018/09/The-Colliers-International-Grape-Debate.jpg
END:VEVENT
END:VCALENDAR