BEGIN:VCALENDAR
VERSION:2.0
PRODID:-//Alpine Wine Tours Queenstown - ECPv5.14.1//NONSGML v1.0//EN
CALSCALE:GREGORIAN
METHOD:PUBLISH
X-WR-CALNAME:Alpine Wine Tours Queenstown
X-ORIGINAL-URL:https://alpinewinetours.co.nz
X-WR-CALDESC:Events for Alpine Wine Tours Queenstown
BEGIN:VTIMEZONE
TZID:Pacific/Auckland
BEGIN:STANDARD
TZOFFSETFROM:+1300
TZOFFSETTO:+1200
TZNAME:NZST
DTSTART:20180331T140000
END:STANDARD
BEGIN:DAYLIGHT
TZOFFSETFROM:+1200
TZOFFSETTO:+1300
TZNAME:NZDT
DTSTART:20180929T140000
END:DAYLIGHT
END:VTIMEZONE
BEGIN:VEVENT
DTSTART;TZID=Pacific/Auckland:20180923T150000
DTEND;TZID=Pacific/Auckland:20180923T160000
DTSTAMP:20260424T133612
CREATED:20180815T044740Z
LAST-MODIFIED:20180815T044740Z
UID:1610-1537714800-1537718400@alpinewinetours.co.nz
SUMMARY:Sherwood Wine Masterclass: Fête Nat by MW Stephen Wong
DESCRIPTION:Join MW Stephen Wong from Wine Sentience for a masterclass during the Organic Wine Festival at Sherwood. The afternoon masterclass is a celebration of cool organic wines from cool places. \nYou will have amazing opportunity to taste a fine selection of wines around the world and join in the discussion about alpine wines. \nTicket via Eventfinda available from 15th of August 2018. \nSherwood Organic Wine Festival is taking place on 23rd of September 2018 11.00AM – 3.00PM. The masterclasses are ticketed separately from the festival. \nSherwood’s Organic Wine Festival will showcase 10 wineries\, all of whom will be on site to personally share their wines and reveal all their secrets! In addition to complimentary tastings\, the SOIF pop up bar will have a selection of organic wine available for purchase to accompany Sherwood’s infamous Sunday roast lunch\, bbq offerings and completing the festival vibe with live music by Fables. The event is family friendly and the ‘kids corner’ will give parents the opportunity to relax in the outdoor wine lounge. \nThe winery line-up is impressive! Come meet the people & enjoy the wines of… Te Whare Ra (TWR) Wines\, Carrick Winery & Restaurant\, Aurum Wines\, Dog Point Vineyard\, Mount Edward Winery\, Quartz Reef Wines\, Neudorf Vineyards\, Pyramid Valley Vineyards\, Huia Vineyards\, Black Estate Wines.
URL:https://alpinewinetours.co.nz/event/sherwood-wine-masterclass-fete-nat-by-mw-stephen-wong-2/
LOCATION:Sherwood Queenstown\, 554 Frankton Road\, Queenstown\, New Zealand
ATTACH;FMTTYPE=image/jpeg:https://alpinewinetours.co.nz/wp-content/uploads/2018/08/Sherwood-Wine-Masterclass-Fête-Nat-by-MW-Stephen-Wong.jpg
END:VEVENT
END:VCALENDAR