BEGIN:VCALENDAR
VERSION:2.0
PRODID:-//Alpine Wine Tours Queenstown - ECPv5.14.1//NONSGML v1.0//EN
CALSCALE:GREGORIAN
METHOD:PUBLISH
X-WR-CALNAME:Alpine Wine Tours Queenstown
X-ORIGINAL-URL:https://alpinewinetours.co.nz
X-WR-CALDESC:Events for Alpine Wine Tours Queenstown
BEGIN:VTIMEZONE
TZID:Pacific/Auckland
BEGIN:STANDARD
TZOFFSETFROM:+1300
TZOFFSETTO:+1200
TZNAME:NZST
DTSTART:20180331T140000
END:STANDARD
BEGIN:DAYLIGHT
TZOFFSETFROM:+1200
TZOFFSETTO:+1300
TZNAME:NZDT
DTSTART:20180929T140000
END:DAYLIGHT
END:VTIMEZONE
BEGIN:VEVENT
DTSTART;TZID=Pacific/Auckland:20180810T193000
DTEND;TZID=Pacific/Auckland:20180810T223000
DTSTAMP:20260424T215253
CREATED:20180815T045109Z
LAST-MODIFIED:20180815T045109Z
UID:1613-1533929400-1533940200@alpinewinetours.co.nz
SUMMARY:Sherwood: Whisky Regions of Scotland
DESCRIPTION:Whisky Tasting with Mark Sommerville is back! \nJoin us for a relaxed evening sampling five whisky’s from different regions of Scotland. \nMark will discuss the distillation process from grain to glass and there will be accompanying canapés prepared by the renowned chefs at Sherwood. \nThis is an evening for anyone who has an interest in whisky. Whether you are a regular whisky drinker\, have enjoyed the occasional dram or are simply curious to learn. \nThe evening starts at 7:30pm\, however you are very welcome to arrive earlier and enjoy a drink at the bar. \nBe quick! Very limited spaces and last event sold out in less than a week! \nCost: $79pp (includes tasting and canapes)
URL:https://alpinewinetours.co.nz/event/sherwood-whisky-regions-of-scotland/
LOCATION:Sherwood Queenstown\, 554 Frankton Road\, Queenstown\, New Zealand
ATTACH;FMTTYPE=image/jpeg:https://alpinewinetours.co.nz/wp-content/uploads/2018/08/Sherwood-whisky-regions-of-Scotland.jpg
END:VEVENT
END:VCALENDAR