BEGIN:VCALENDAR
VERSION:2.0
PRODID:-//Alpine Wine Tours Queenstown - ECPv5.14.1//NONSGML v1.0//EN
CALSCALE:GREGORIAN
METHOD:PUBLISH
X-WR-CALNAME:Alpine Wine Tours Queenstown
X-ORIGINAL-URL:https://alpinewinetours.co.nz
X-WR-CALDESC:Events for Alpine Wine Tours Queenstown
BEGIN:VTIMEZONE
TZID:Pacific/Auckland
BEGIN:STANDARD
TZOFFSETFROM:+1300
TZOFFSETTO:+1200
TZNAME:NZST
DTSTART:20190406T140000
END:STANDARD
BEGIN:DAYLIGHT
TZOFFSETFROM:+1200
TZOFFSETTO:+1300
TZNAME:NZDT
DTSTART:20190928T140000
END:DAYLIGHT
END:VTIMEZONE
BEGIN:VEVENT
DTSTART;TZID=Pacific/Auckland:20190202T090000
DTEND;TZID=Pacific/Auckland:20190202T140000
DTSTAMP:20260424T155522
CREATED:20181222T225743Z
LAST-MODIFIED:20181222T225902Z
UID:2085-1549098000-1549116000@alpinewinetours.co.nz
SUMMARY:Run the Ridge - McArthur Ridge Vineyard
DESCRIPTION:Walk or run through the scenic \, Springvale\, Clyde\, Springvale\, Clyde\, Springvale\, Clyde in stunning Central Otago.\nDistances to suit everyone from:\n5km and 10km walk or run\n20km Teams Relay (4 x 5km laps)\n21km run \nEntries open 1st August 2018\nVisit our website www.runthevines.com for the link to the online entry and all you need to know about the race. \nGet your entry in quick to receive a FREE bottle of wine.\nBetween 1st August and 30th September we are giving away a bottle of beautiful McArthur Ridge Pinot Noir (or a Run the Vines T-shirt for minors) if you are one of the following: \n1st 5 entries in the 5km walk/run\n1st 5 entries in the 20km Teams relay\n1st 10 entries in the 10km walk/run\n1st 50 entries in the 21km run
URL:https://alpinewinetours.co.nz/event/run-the-ridge-mcarthur-ridge-vineyard/
LOCATION:McArthur Ridge Vineyard\, Springvale\, Clyde\, New Zealand
END:VEVENT
END:VCALENDAR