BEGIN:VCALENDAR
VERSION:2.0
PRODID:-//Alpine Wine Tours Queenstown - ECPv5.14.1//NONSGML v1.0//EN
CALSCALE:GREGORIAN
METHOD:PUBLISH
X-WR-CALNAME:Alpine Wine Tours Queenstown
X-ORIGINAL-URL:https://alpinewinetours.co.nz
X-WR-CALDESC:Events for Alpine Wine Tours Queenstown
BEGIN:VTIMEZONE
TZID:Pacific/Auckland
BEGIN:STANDARD
TZOFFSETFROM:+1300
TZOFFSETTO:+1200
TZNAME:NZST
DTSTART:20180331T140000
END:STANDARD
BEGIN:DAYLIGHT
TZOFFSETFROM:+1200
TZOFFSETTO:+1300
TZNAME:NZDT
DTSTART:20180929T140000
END:DAYLIGHT
END:VTIMEZONE
BEGIN:VEVENT
DTSTART;VALUE=DATE:20181020
DTEND;VALUE=DATE:20181023
DTSTAMP:20260424T183117
CREATED:20181016T220528Z
LAST-MODIFIED:20181016T220616Z
UID:1714-1539993600-1540252799@alpinewinetours.co.nz
SUMMARY:Queenstown JazzFest
DESCRIPTION:This Labour Weekend the Queenstown JazzFest Trust will present a compact programme of jazz concerts as we take an opportunity to pause to determine what shape the festival might take moving forward to continue to be relevant and sustainable for years to come. \nOur entertaining programme of activities includes a community concert at Earnslaw Park on Sat 20 Oct alongside the Creative Queenstown Arts & Craft Market\, as well as concerts at Yonder\, Sofitel Queenstown\, Gibbston Valley Winery and Jack’s Point Restaurant. Best of all\, it’s free! \n\nWe will be releasing all event details shortly and look forward to sharing some fantastic live jazz with you over Labour Weekend.
URL:https://alpinewinetours.co.nz/event/queenstown-jazzfest/
LOCATION:Queenstown\, Queenstown\, New Zealand
END:VEVENT
END:VCALENDAR