BEGIN:VCALENDAR
VERSION:2.0
PRODID:-//Alpine Wine Tours Queenstown - ECPv5.14.1//NONSGML v1.0//EN
CALSCALE:GREGORIAN
METHOD:PUBLISH
X-WR-CALNAME:Alpine Wine Tours Queenstown
X-ORIGINAL-URL:https://alpinewinetours.co.nz
X-WR-CALDESC:Events for Alpine Wine Tours Queenstown
BEGIN:VTIMEZONE
TZID:Pacific/Auckland
BEGIN:STANDARD
TZOFFSETFROM:+1300
TZOFFSETTO:+1200
TZNAME:NZST
DTSTART:20180331T140000
END:STANDARD
BEGIN:DAYLIGHT
TZOFFSETFROM:+1200
TZOFFSETTO:+1300
TZNAME:NZDT
DTSTART:20180929T140000
END:DAYLIGHT
END:VTIMEZONE
BEGIN:VEVENT
DTSTART;TZID=Pacific/Auckland:20180927T183000
DTEND;TZID=Pacific/Auckland:20180927T213000
DTSTAMP:20260424T133507
CREATED:20180917T221541Z
LAST-MODIFIED:20180917T221541Z
UID:1631-1538073000-1538083800@alpinewinetours.co.nz
SUMMARY:Mondillo Vineyard Winemakers Dinner
DESCRIPTION:Indulge in a flavour filled evening with delicious\, elegant wine delectably matched with Wakatipu Grill’s specially created 3-course menu with a fun and vibrant table-sharing concept\, hosted by Mondillo Vineyard. \nQueenstown local\, Domenic Mondillo\, is our guest winemaker/viticulturist for our September wine dinner\, where he will be discussing his passion for his vineyard\, his inherent love of the environment\, and his driving force to produce exquisite wines year after year. \nDomenic Mondillo’s life has been entrenched in the food and wine industry. Originally from the USA\, with an Italian heritage\, Domenic’s introduction to cooking and wine making began as a child with his grandfather – and he has never looked back! \nDomenic moved to Queenstown in 1981 (enticed by the fly-fishing and skiing) where he was chef/owner of two multi-award winning restaurants before becoming involved in the Central Otago wine industry in 1992. Domenic has shared his time for the past 18 years\, between Queenstown and Oregon\, where he consults in viticulture and winemaking. \nIn 2001\, Domenic and his wife Ally\, established their own vineyard at Bendigo in Central Otago\, producing wines under the Mondillo brand. Mondillo is a small twelve-hectare single vineyard\, creating hand crafted Pinot Noir and Riesling wines. \n14 years on\, their trophy winning wines seem to fly under the radar\, with sell-out vintages of their Bella Reserve Pinot Noir\, Mondillo Pinot Noir\, Riesling\, Rosé and ‘Nina’ exclusively to clients throughout New Zealand and direct sales around the world. \nDomenic is excited about the wine dinner at the Hilton as he will be releasing\, his 2018 Rosé and Riesling vintages along with his other wines for everyone to enjoy. \nDon’t miss out on this amazing night which will sell out!\n$90pp for canapes\, 3 courses and 4 wines. \nTo reserve your seat\, call 03 450 9438 or email wakatipugrill@hilton.com.
URL:https://alpinewinetours.co.nz/event/mondillo-vineyard-winemakers-dinner/
LOCATION:The Hilton\, Kawarau Village\, Peninsula Road\,\, Queenstown\, New Zealand
ATTACH;FMTTYPE=image/jpeg:https://alpinewinetours.co.nz/wp-content/uploads/2018/09/Mondillo-Vineyard-Winemakers-Dinner.jpg
END:VEVENT
END:VCALENDAR