BEGIN:VCALENDAR
VERSION:2.0
PRODID:-//Alpine Wine Tours Queenstown - ECPv5.14.1//NONSGML v1.0//EN
CALSCALE:GREGORIAN
METHOD:PUBLISH
X-WR-CALNAME:Alpine Wine Tours Queenstown
X-ORIGINAL-URL:https://alpinewinetours.co.nz
X-WR-CALDESC:Events for Alpine Wine Tours Queenstown
BEGIN:VTIMEZONE
TZID:Pacific/Auckland
BEGIN:STANDARD
TZOFFSETFROM:+1300
TZOFFSETTO:+1200
TZNAME:NZST
DTSTART:20180331T140000
END:STANDARD
BEGIN:DAYLIGHT
TZOFFSETFROM:+1200
TZOFFSETTO:+1300
TZNAME:NZDT
DTSTART:20180929T140000
END:DAYLIGHT
END:VTIMEZONE
BEGIN:VEVENT
DTSTART;VALUE=DATE:20181026
DTEND;VALUE=DATE:20181029
DTSTAMP:20260424T185957
CREATED:20180802T222310Z
LAST-MODIFIED:20180802T222310Z
UID:1540-1540512000-1540771199@alpinewinetours.co.nz
SUMMARY:Kinross Cottages - Winemaker Weekends - Domaine Thomson: Claudio Heye
DESCRIPTION:Unique Wine Experience – Vineyard – Retreat – Winemakers\nRomantic Weekend\n\n\n2 nights accommodation in a blissful studio cottage room (Friday & Saturday night – full breakfast Included.)\nSaturday ‘Trust the Chef’ evening – hosted & paired by our renowned Wine Partners – Domaine Thomson: Claudio Heye\nFree Hot Tub\nWine Tasting Session\nTwo Unique Sessions (45mins): Le Nez du Vin & The Perfect Pinot\n\n$790 per couple\, for the weekend. \nOnly 5 opportunities every year! \nJoin us in Gibbston for a unique experience completely focussed on the beauty of our wine partners and their produce.  With several events throughout the weekend\, you can simply enjoy the peace and quiet of our piece of paradise\, or head off on an adventure (our team have an abundance of ideas) or head up the mountains to ski the day away before returning to our cosy cottages for some all important wine time.
URL:https://alpinewinetours.co.nz/event/kinross-cottages-winemaker-weekends-domaine-thomson-claudio-heye/
LOCATION:Kinross Cottages\, 2300 Gibbston Highway (SH6)\, Queenstown\, New Zealand
ATTACH;FMTTYPE=image/jpeg:https://alpinewinetours.co.nz/wp-content/uploads/2018/08/Kinross-Winemakers-Weekend-2.jpg
END:VEVENT
END:VCALENDAR