BEGIN:VCALENDAR
VERSION:2.0
PRODID:-//Alpine Wine Tours Queenstown - ECPv5.14.1//NONSGML v1.0//EN
CALSCALE:GREGORIAN
METHOD:PUBLISH
X-WR-CALNAME:Alpine Wine Tours Queenstown
X-ORIGINAL-URL:https://alpinewinetours.co.nz
X-WR-CALDESC:Events for Alpine Wine Tours Queenstown
BEGIN:VTIMEZONE
TZID:Pacific/Auckland
BEGIN:STANDARD
TZOFFSETFROM:+1300
TZOFFSETTO:+1200
TZNAME:NZST
DTSTART:20180331T140000
END:STANDARD
BEGIN:DAYLIGHT
TZOFFSETFROM:+1200
TZOFFSETTO:+1300
TZNAME:NZDT
DTSTART:20180929T140000
END:DAYLIGHT
END:VTIMEZONE
BEGIN:VEVENT
DTSTART;TZID=Pacific/Auckland:20180818T130000
DTEND;TZID=Pacific/Auckland:20180818T160000
DTSTAMP:20260424T220401
CREATED:20180813T005149Z
LAST-MODIFIED:20180813T005418Z
UID:1587-1534597200-1534608000@alpinewinetours.co.nz
SUMMARY:Glengarry Epic Bordeaux Tasting - Queenstown
DESCRIPTION:It’s that time of the year\, when our temperature controlled shipping containers arrive from France. We’ve been importing direct from Bordeaux since the famed 1982 vintage\, and this year we have three of them packed to the roof with some of the finest red wines in the world. \nSo we thought it was high time we brought some down to Queenstown\, you can’t drink Pinot all the time! This will be an epic tasting event\, with over 50 different wines to try. Walk around at your own pace and explore some of the great regions of Bordeaux\, starting with the Cabernet Sauvignon dominant left bank areas of the Medoc like Margaux\, Pauillac\, St Julian\, and St Estephe. \nThen to the right bank\, and the dark rich Merlot blends from St Emilion and Pomerol. There will also be some of the beautiful rare dry whites produced from Sauvignon Blanc and Semillion\, and of course the incredible sweet wines from Sauternes and Barsac to finish. We will have wines open all the way from $15 to $200 a bottle\, so there is plenty to explore at every price range. Bordeaux to enjoy now as well as ones to put aside for retirement! \nOur staff will be there to talk you through the bottles and help with your Bordeaux education\, this will be a stunning tasting not to be missed!
URL:https://alpinewinetours.co.nz/event/glengarry-epic-bordeaux-tasting-queenstown/
LOCATION:Crowne Plaza Queenstown\, 93 Beach Street\, Queenstown\, New Zealand
ATTACH;FMTTYPE=image/jpeg:https://alpinewinetours.co.nz/wp-content/uploads/2018/08/Glengarry-Epic-Bordeaux-Tasting-Queenstown.jpg
END:VEVENT
END:VCALENDAR