BEGIN:VCALENDAR
VERSION:2.0
PRODID:-//Alpine Wine Tours Queenstown - ECPv5.14.1//NONSGML v1.0//EN
CALSCALE:GREGORIAN
METHOD:PUBLISH
X-WR-CALNAME:Alpine Wine Tours Queenstown
X-ORIGINAL-URL:https://alpinewinetours.co.nz
X-WR-CALDESC:Events for Alpine Wine Tours Queenstown
BEGIN:VTIMEZONE
TZID:Pacific/Auckland
BEGIN:STANDARD
TZOFFSETFROM:+1300
TZOFFSETTO:+1200
TZNAME:NZST
DTSTART:20190406T140000
END:STANDARD
BEGIN:DAYLIGHT
TZOFFSETFROM:+1200
TZOFFSETTO:+1300
TZNAME:NZDT
DTSTART:20190928T140000
END:DAYLIGHT
END:VTIMEZONE
BEGIN:VEVENT
DTSTART;VALUE=DATE:20190119
DTEND;VALUE=DATE:20190120
DTSTAMP:20260424T140734
CREATED:20180803T022226Z
LAST-MODIFIED:20180803T022226Z
UID:1562-1547856000-1547942399@alpinewinetours.co.nz
SUMMARY:Gibbston Valley Winery Summer Concert
DESCRIPTION:Gibbston Valley Winery Summer Concert Tour 2019\nAnother sizzling hot summer of music will be hitting our shores in January with Greenstone Entertainment announcing its line-up of four international acts for the annual Summer Concert Tour. SUPERTRAMP’S Roger Hodgson\, legendary singer-songwriter\, will perform all his SUPERTRAMP songs from the 70’s and 80’s\, with a set list that we all know and love\, including “Dreamer”\, “Give A Little Bit”\, “It’s Raining Again”\, “Breakfast in America”\, “Take The Long Way Home”\, “The Logical Song”and more. \nJames Reyne (AUSTRALIAN CRAWL) and Mark Seymour (HUNTERS & COLLECTORS)\, will be playing classics from AUSTRALIAN CRAWL\, HUNTERS & COLLECTORS\, and each of their solo works. As founding members and ex lead singers of HUNTERS & COLLECTORS and AUSTRALIAN CRAWL\, Mark and James are teaming up for the first time in New Zealand to rock concert goers with some of their iconic hits from the 80’s and 90’s including “Holy Grail”\, “Throw Your Arms Around Me”\, “Reckless” and “Downhearted” to name just a few. \nCompleting the amazing international line up will be the unmistakable and powerful voice of Toni Childs\, who again is sure to have everyone singing along to her Top 40 hits from the late 80’s early 90’s including “Don’t Walk Away”\, Stop Your Fussin”and “I’ve Got To Go Now ”.
URL:https://alpinewinetours.co.nz/event/gibbston-valley-winery-summer-concert/
LOCATION:Gibbston Valley Winery\, 1820 State Highway 6\, Gibbston\, Queenstown\, New Zealand
ATTACH;FMTTYPE=image/jpeg:https://alpinewinetours.co.nz/wp-content/uploads/2018/08/Gibbston-Valley-Concert-2019.jpg
END:VEVENT
END:VCALENDAR