BEGIN:VCALENDAR
VERSION:2.0
PRODID:-//Alpine Wine Tours Queenstown - ECPv5.14.1//NONSGML v1.0//EN
CALSCALE:GREGORIAN
METHOD:PUBLISH
X-WR-CALNAME:Alpine Wine Tours Queenstown
X-ORIGINAL-URL:https://alpinewinetours.co.nz
X-WR-CALDESC:Events for Alpine Wine Tours Queenstown
BEGIN:VTIMEZONE
TZID:Pacific/Auckland
BEGIN:STANDARD
TZOFFSETFROM:+1300
TZOFFSETTO:+1200
TZNAME:NZST
DTSTART:20180331T140000
END:STANDARD
BEGIN:DAYLIGHT
TZOFFSETFROM:+1200
TZOFFSETTO:+1300
TZNAME:NZDT
DTSTART:20180929T140000
END:DAYLIGHT
END:VTIMEZONE
BEGIN:VEVENT
DTSTART;TZID=Pacific/Auckland:20180824T190000
DTEND;TZID=Pacific/Auckland:20180824T220000
DTSTAMP:20260424T201140
CREATED:20180812T031113Z
LAST-MODIFIED:20180812T070959Z
UID:1572-1535137200-1535148000@alpinewinetours.co.nz
SUMMARY:Eichardt's Wine Maker Dinner - Meet the Wine Maker: Greg Hay of Wet Jacket Wines
DESCRIPTION:
URL:https://alpinewinetours.co.nz/event/eichardts-wine-maker-dinner-meet-the-wine-maker-grey-hay-of-wet-jacket-wines/
LOCATION:The Parlour at Eichardt’s Private Hotel\, Marine Parade\, Queenstown\, New Zealand
ATTACH;FMTTYPE=image/jpeg:https://alpinewinetours.co.nz/wp-content/uploads/2018/08/Wet-Jacket-wines.jpg
END:VEVENT
END:VCALENDAR