BEGIN:VCALENDAR
VERSION:2.0
PRODID:-//Alpine Wine Tours Queenstown - ECPv5.14.1//NONSGML v1.0//EN
CALSCALE:GREGORIAN
METHOD:PUBLISH
X-WR-CALNAME:Alpine Wine Tours Queenstown
X-ORIGINAL-URL:https://alpinewinetours.co.nz
X-WR-CALDESC:Events for Alpine Wine Tours Queenstown
BEGIN:VTIMEZONE
TZID:Pacific/Auckland
BEGIN:STANDARD
TZOFFSETFROM:+1300
TZOFFSETTO:+1200
TZNAME:NZST
DTSTART:20190406T140000
END:STANDARD
BEGIN:DAYLIGHT
TZOFFSETFROM:+1200
TZOFFSETTO:+1300
TZNAME:NZDT
DTSTART:20190928T140000
END:DAYLIGHT
END:VTIMEZONE
BEGIN:VEVENT
DTSTART;TZID=Pacific/Auckland:20190105T150000
DTEND;TZID=Pacific/Auckland:20190105T200000
DTSTAMP:20260424T142015
CREATED:20180917T223410Z
LAST-MODIFIED:20180917T223410Z
UID:1635-1546700400-1546718400@alpinewinetours.co.nz
SUMMARY:Cromwell Food and Wine Festival
DESCRIPTION:Located in the beautiful sheltered garden of the McNulty House\, the annual Food and Wine Festival is a great place to enjoy local wines and produce in a very relaxed and family-friendly environment. \nTickets: $20 and pay at the event
URL:https://alpinewinetours.co.nz/event/cromwell-food-and-wine-festival/
LOCATION:Cromwell Heritage Precinct\, Cromwell Heritage Precinct\, Cromwell\, New Zealand
ATTACH;FMTTYPE=image/jpeg:https://alpinewinetours.co.nz/wp-content/uploads/2018/09/Cromwell-Food-and-Wine-Festival.jpg
END:VEVENT
END:VCALENDAR