BEGIN:VCALENDAR
VERSION:2.0
PRODID:-//Alpine Wine Tours Queenstown - ECPv5.14.1//NONSGML v1.0//EN
CALSCALE:GREGORIAN
METHOD:PUBLISH
X-WR-CALNAME:Alpine Wine Tours Queenstown
X-ORIGINAL-URL:https://alpinewinetours.co.nz
X-WR-CALDESC:Events for Alpine Wine Tours Queenstown
BEGIN:VTIMEZONE
TZID:Pacific/Auckland
BEGIN:STANDARD
TZOFFSETFROM:+1300
TZOFFSETTO:+1200
TZNAME:NZST
DTSTART:20190406T140000
END:STANDARD
BEGIN:DAYLIGHT
TZOFFSETFROM:+1200
TZOFFSETTO:+1300
TZNAME:NZDT
DTSTART:20190928T140000
END:DAYLIGHT
END:VTIMEZONE
BEGIN:VEVENT
DTSTART;TZID=Pacific/Auckland:20190802T123000
DTEND;TZID=Pacific/Auckland:20190802T150000
DTSTAMP:20260424T153105
CREATED:20190712T004409Z
LAST-MODIFIED:20190712T004409Z
UID:2149-1564749000-1564758000@alpinewinetours.co.nz
SUMMARY:Clicquot Long Lunch at Rata
DESCRIPTION:Satisfy your culinary cravings with the renowned Clicquot Long Lunch at Rata Restaurant. Guests can enjoy a four-course degustation lunch\, designed by celebrity chef Josh Emett\, exquisitely paired with Veuve Clicquot Yellow Label\, Rosé and Vintage 2008. \nWhen: Friday August 2nd and Saturday August 3rd\nLocation: Rata Restaurant\, Te Nuku\, 43 Ballarat St\, Queenstown 9348\nTime: 12.30PM – 3PM\nTickets: $185 + booking fee + credit card fee\nInclusions: Four-course degustation lunch\, each course paired with a flute of Veuve Clicquot \nPlease ensure you book with the group you would like to sit with so our staff can allocate you the correct table. \nFor more information and if you have any dietary requirements\, please call or email Rata on 03 442 9393 or bookings@ratadining.co.nz \nTo view the full Clicquot in the Snow 2019 program and purchase tickets\, please visit clicquotinthesnow.co.nz \nPlease enjoy Veuve Clicquot responsibly. This is an R18 event.
URL:https://alpinewinetours.co.nz/event/clicquot-long-lunch-at-rata/
LOCATION:Rata Restaurant\, Te Nuku 43 Ballarat Street\, Queenstown\, New Zealand
END:VEVENT
END:VCALENDAR