BEGIN:VCALENDAR
VERSION:2.0
PRODID:-//Alpine Wine Tours Queenstown - ECPv5.14.1//NONSGML v1.0//EN
CALSCALE:GREGORIAN
METHOD:PUBLISH
X-WR-CALNAME:Alpine Wine Tours Queenstown
X-ORIGINAL-URL:https://alpinewinetours.co.nz
X-WR-CALDESC:Events for Alpine Wine Tours Queenstown
BEGIN:VTIMEZONE
TZID:Pacific/Auckland
BEGIN:STANDARD
TZOFFSETFROM:+1300
TZOFFSETTO:+1200
TZNAME:NZST
DTSTART:20180331T140000
END:STANDARD
BEGIN:DAYLIGHT
TZOFFSETFROM:+1200
TZOFFSETTO:+1300
TZNAME:NZDT
DTSTART:20180929T140000
END:DAYLIGHT
END:VTIMEZONE
BEGIN:VEVENT
DTSTART;TZID=Pacific/Auckland:20180803T123000
DTEND;TZID=Pacific/Auckland:20180803T150000
DTSTAMP:20260424T232528
CREATED:20180801T081252Z
LAST-MODIFIED:20180801T090055Z
UID:1495-1533299400-1533308400@alpinewinetours.co.nz
SUMMARY:Clicquot in the Snow - Rata Long Lunch
DESCRIPTION:Culinary cravings can be satisfied with the renowned Clicquot Long Lunch at Rata Restaurant. Here guests can enjoy a four-course degustation lunch designed by celebrity chef Josh Emett that will be paired with Veuve Clicquot champagne.
URL:https://alpinewinetours.co.nz/event/clicquot-in-the-snow-rata-long-lunch/
LOCATION:Rata Restaurant\, Te Nuku 43 Ballarat Street\, Queenstown\, New Zealand
ATTACH;FMTTYPE=image/jpeg:https://alpinewinetours.co.nz/wp-content/uploads/2018/08/Clicquot-in-the-Snow-Long-Lunch-at-Rata.jpg
END:VEVENT
END:VCALENDAR