BEGIN:VCALENDAR
VERSION:2.0
PRODID:-//Alpine Wine Tours Queenstown - ECPv5.14.1//NONSGML v1.0//EN
CALSCALE:GREGORIAN
METHOD:PUBLISH
X-WR-CALNAME:Alpine Wine Tours Queenstown
X-ORIGINAL-URL:https://alpinewinetours.co.nz
X-WR-CALDESC:Events for Alpine Wine Tours Queenstown
BEGIN:VTIMEZONE
TZID:Pacific/Auckland
BEGIN:STANDARD
TZOFFSETFROM:+1300
TZOFFSETTO:+1200
TZNAME:NZST
DTSTART:20180331T140000
END:STANDARD
BEGIN:DAYLIGHT
TZOFFSETFROM:+1200
TZOFFSETTO:+1300
TZNAME:NZDT
DTSTART:20180929T140000
END:DAYLIGHT
END:VTIMEZONE
BEGIN:VEVENT
DTSTART;TZID=Pacific/Auckland:20180803T193000
DTEND;TZID=Pacific/Auckland:20180803T230000
DTSTAMP:20260424T232649
CREATED:20180801T081541Z
LAST-MODIFIED:20180801T090027Z
UID:1489-1533324600-1533337200@alpinewinetours.co.nz
SUMMARY:Clicquot in the Snow - Kathryn Wilson Show
DESCRIPTION:New Zealand’s premier footwear designer Kathryn Wilson is continuing her long standing affiliation with Clicquot in the Snow\, returning for the 7th year with her runway show. \nThis year\, the show will take place at Jack’s Point Clubhouse\, which will be transformed into a spectacular catwalk for the exclusive viewing of Kathryn’s Spring/Summer 18 collection ahead of its release. Guests will enjoy an evening filled with glamour\, fashion and champagne.
URL:https://alpinewinetours.co.nz/event/clicquot-in-the-snow-kathryn-wilson-show/
LOCATION:Jack’s Point Clubhouse\, McAdam Drive\, Jack’s Point\, Queenstown\, New Zealand
ATTACH;FMTTYPE=image/jpeg:https://alpinewinetours.co.nz/wp-content/uploads/2018/08/Clicquot-in-the-Snow-Kathryn-Wilson-Show-image.jpg
END:VEVENT
END:VCALENDAR