BEGIN:VCALENDAR
VERSION:2.0
PRODID:-//Alpine Wine Tours Queenstown - ECPv5.14.1//NONSGML v1.0//EN
CALSCALE:GREGORIAN
METHOD:PUBLISH
X-WR-CALNAME:Alpine Wine Tours Queenstown
X-ORIGINAL-URL:https://alpinewinetours.co.nz
X-WR-CALDESC:Events for Alpine Wine Tours Queenstown
BEGIN:VTIMEZONE
TZID:Pacific/Auckland
BEGIN:STANDARD
TZOFFSETFROM:+1300
TZOFFSETTO:+1200
TZNAME:NZST
DTSTART:20180331T140000
END:STANDARD
BEGIN:DAYLIGHT
TZOFFSETFROM:+1200
TZOFFSETTO:+1300
TZNAME:NZDT
DTSTART:20180929T140000
END:DAYLIGHT
END:VTIMEZONE
BEGIN:VEVENT
DTSTART;TZID=Pacific/Auckland:20180804T193000
DTEND;TZID=Pacific/Auckland:20180804T230000
DTSTAMP:20260424T232654
CREATED:20180801T074846Z
LAST-MODIFIED:20180801T085907Z
UID:1484-1533411000-1533423600@alpinewinetours.co.nz
SUMMARY:Clicquot in the Snow - Clicquot Colourama Gala
DESCRIPTION:To mark 200 years since Madame Clicquot created the world’s first blended Rosé Champagne\, Veuve Clicquot is celebrating by bringing the Clicquot Colourama Gala to the Snow. The Clicquot Colourama Gala will be a fitting conclusion to the four-day luxury champagne celebration. Guests will get to enjoy an elaborately themed atmosphere\, champagne and great entertainment to help dance the night away.
URL:https://alpinewinetours.co.nz/event/clicquot-in-the-snow-clicquot-colourama-gala/
LOCATION:Reds Bar\, Level 6\, QT \, 30 Brunswick Street\, Queenstown\, New Zealand
ATTACH;FMTTYPE=image/jpeg:https://alpinewinetours.co.nz/wp-content/uploads/2018/08/Clicquot-in-the-Snow-Colourama-Gala.jpg
END:VEVENT
END:VCALENDAR