BEGIN:VCALENDAR
VERSION:2.0
PRODID:-//Alpine Wine Tours Queenstown - ECPv5.14.1//NONSGML v1.0//EN
CALSCALE:GREGORIAN
METHOD:PUBLISH
X-WR-CALNAME:Alpine Wine Tours Queenstown
X-ORIGINAL-URL:https://alpinewinetours.co.nz
X-WR-CALDESC:Events for Alpine Wine Tours Queenstown
BEGIN:VTIMEZONE
TZID:Pacific/Auckland
BEGIN:STANDARD
TZOFFSETFROM:+1300
TZOFFSETTO:+1200
TZNAME:NZST
DTSTART:20180331T140000
END:STANDARD
BEGIN:DAYLIGHT
TZOFFSETFROM:+1200
TZOFFSETTO:+1300
TZNAME:NZDT
DTSTART:20180929T140000
END:DAYLIGHT
END:VTIMEZONE
BEGIN:VEVENT
DTSTART;TZID=Pacific/Auckland:20180927T183000
DTEND;TZID=Pacific/Auckland:20180927T223000
DTSTAMP:20260424T134416
CREATED:20180917T223857Z
LAST-MODIFIED:20180917T223857Z
UID:1639-1538073000-1538087400@alpinewinetours.co.nz
SUMMARY:Church Road Winemakers Dinner
DESCRIPTION:Enjoy five sumptuous courses expertly matched with some of Church Road’s finest\, including and showcasing Church Road’s TOM Syrah. \nTOM wines are of the most exceptional character and quality and only produced in outstanding vintages. \nWinemaker Chris Scott will guide guests through each wine and explore their style of increased complexity and commitment to traditional winemaking techniques. \nThis unique event is $175pp and will be held in our beautiful private Owners Room and tickets are extremely limited!17 M
URL:https://alpinewinetours.co.nz/event/church-road-winemakers-dinner/
LOCATION:Botswana Butchery\, 17 Marine Parade\, Queenstown\, New Zealand
ATTACH;FMTTYPE=image/jpeg:https://alpinewinetours.co.nz/wp-content/uploads/2018/09/Church-Road-Winemakers-Dinner-1.jpg
END:VEVENT
END:VCALENDAR