BEGIN:VCALENDAR
VERSION:2.0
PRODID:-//Alpine Wine Tours Queenstown - ECPv5.14.1//NONSGML v1.0//EN
CALSCALE:GREGORIAN
METHOD:PUBLISH
X-WR-CALNAME:Alpine Wine Tours Queenstown
X-ORIGINAL-URL:https://alpinewinetours.co.nz
X-WR-CALDESC:Events for Alpine Wine Tours Queenstown
BEGIN:VTIMEZONE
TZID:Pacific/Auckland
BEGIN:STANDARD
TZOFFSETFROM:+1300
TZOFFSETTO:+1200
TZNAME:NZST
DTSTART:20190406T140000
END:STANDARD
BEGIN:DAYLIGHT
TZOFFSETFROM:+1200
TZOFFSETTO:+1300
TZNAME:NZDT
DTSTART:20190928T140000
END:DAYLIGHT
END:VTIMEZONE
BEGIN:VEVENT
DTSTART;VALUE=DATE:20190124
DTEND;VALUE=DATE:20190127
DTSTAMP:20260424T141652
CREATED:20181218T010204Z
LAST-MODIFIED:20181218T010204Z
UID:2074-1548288000-1548547199@alpinewinetours.co.nz
SUMMARY:Central Otago Pinot Celebration 2019
DESCRIPTION:An invitation to Pinot aficionados to indulge and imbibe in the 14th Central Otago Pinot Noir Celebration. \nThe Central Otago Pinot Celebration has established itself as a premier event on the international wine calendar. Hosted in one of the world’s most dramatic and awe-inspiring wine regions\, this is a unique opportunity to engage with the region’s top winemakers and other leading wine personalities and enthusiasts from all over the world. \nOver the three days of the Celebration you will discover just what it is that sets Central Otago Pinot noir apart from the rest. Join with other Pinot aficionados as you share in master classes\, tastings and food and wine matches that will profile the region’s uncompromising characteristics and unforgettable characters\, highlight the different winemaking practices and philosophies that produce wines of such distinction and enable you to relax and unwind in some stunning locations.
URL:https://alpinewinetours.co.nz/event/central-otago-pinot-celebration-2019/
LOCATION:Queenstown\, Queenstown\, New Zealand
END:VEVENT
END:VCALENDAR