BEGIN:VCALENDAR
VERSION:2.0
PRODID:-//Alpine Wine Tours Queenstown - ECPv5.14.1//NONSGML v1.0//EN
CALSCALE:GREGORIAN
METHOD:PUBLISH
X-WR-CALNAME:Alpine Wine Tours Queenstown
X-ORIGINAL-URL:https://alpinewinetours.co.nz
X-WR-CALDESC:Events for Alpine Wine Tours Queenstown
BEGIN:VTIMEZONE
TZID:Pacific/Auckland
BEGIN:STANDARD
TZOFFSETFROM:+1300
TZOFFSETTO:+1200
TZNAME:NZST
DTSTART:20190406T140000
END:STANDARD
BEGIN:DAYLIGHT
TZOFFSETFROM:+1200
TZOFFSETTO:+1300
TZNAME:NZDT
DTSTART:20190928T140000
END:DAYLIGHT
END:VTIMEZONE
BEGIN:VEVENT
DTSTART;TZID=Pacific/Auckland:20190202T140000
DTEND;TZID=Pacific/Auckland:20190202T200000
DTSTAMP:20260424T155216
CREATED:20181222T225425Z
LAST-MODIFIED:20181222T225425Z
UID:2081-1549116000-1549137600@alpinewinetours.co.nz
SUMMARY:Central Otago Craft Beer Festival
DESCRIPTION:Our annual Central Otago festival celebrating local and NZ Craft Beers\, Ciders\, Wines & Food. Enjoy great music\, family friendly with our relaxed vibe and stunning weather.
URL:https://alpinewinetours.co.nz/event/central-otago-craft-beer-festival/
LOCATION:Pioneer Park\, Alexandra\, New Zealand
END:VEVENT
END:VCALENDAR