BEGIN:VCALENDAR
VERSION:2.0
PRODID:-//Alpine Wine Tours Queenstown - ECPv5.14.1//NONSGML v1.0//EN
CALSCALE:GREGORIAN
METHOD:PUBLISH
X-WR-CALNAME:Alpine Wine Tours Queenstown
X-ORIGINAL-URL:https://alpinewinetours.co.nz
X-WR-CALDESC:Events for Alpine Wine Tours Queenstown
BEGIN:VTIMEZONE
TZID:Pacific/Auckland
BEGIN:STANDARD
TZOFFSETFROM:+1300
TZOFFSETTO:+1200
TZNAME:NZST
DTSTART:20190406T140000
END:STANDARD
BEGIN:DAYLIGHT
TZOFFSETFROM:+1200
TZOFFSETTO:+1300
TZNAME:NZDT
DTSTART:20190928T140000
END:DAYLIGHT
END:VTIMEZONE
BEGIN:VEVENT
DTSTART;TZID=Pacific/Auckland:20190728T120000
DTEND;TZID=Pacific/Auckland:20190728T150000
DTSTAMP:20260424T153540
CREATED:20190712T003439Z
LAST-MODIFIED:20190712T003439Z
UID:2143-1564315200-1564326000@alpinewinetours.co.nz
SUMMARY:Botswana Butchery presents Saison des Neiges Champagne Mumm Luxury Long Lunch
DESCRIPTION:On Sunday July 28\, Carissa Walford will be a special guest at a Champagne-paired long lunch at Queenstown’s iconic Botswana Butchery restaurant. Hosted in the exclusive Owners Room\, guests will be treated to a five-course meal and Q&A conversation with Carissa\, hosted by New Zealand social media personality and Bravo TV host\, Cassidy Morris. Cassidy will chat to Carissa about all things style\, winter\, success and celebration – it will be the ultimate winter date with friends. \nWhere: Botswana Butchery Queenstown\, 17 Marine Parade\, Queenstown\nWhen: Sunday 28th July\nTiming: 12.00pm – 3.00pm\nTickets: $175 + booking fee + credit card fee\nIncludes: five-course set menu + Champagne Mumm pairings \nThis is an R18 event. Enjoy Champagne Mumm responsibly.
URL:https://alpinewinetours.co.nz/event/botswana-butchery-presents-saison-des-neiges-champagne-mumm-luxury-long-lunch/
LOCATION:Botswana Butchery\, 17 Marine Parade\, Queenstown\, New Zealand
END:VEVENT
END:VCALENDAR