BEGIN:VCALENDAR
VERSION:2.0
PRODID:-//Alpine Wine Tours Queenstown - ECPv5.14.1//NONSGML v1.0//EN
CALSCALE:GREGORIAN
METHOD:PUBLISH
X-WR-CALNAME:Alpine Wine Tours Queenstown
X-ORIGINAL-URL:https://alpinewinetours.co.nz
X-WR-CALDESC:Events for Alpine Wine Tours Queenstown
BEGIN:VTIMEZONE
TZID:Pacific/Auckland
BEGIN:STANDARD
TZOFFSETFROM:+1300
TZOFFSETTO:+1200
TZNAME:NZST
DTSTART:20190406T140000
END:STANDARD
BEGIN:DAYLIGHT
TZOFFSETFROM:+1200
TZOFFSETTO:+1300
TZNAME:NZDT
DTSTART:20190928T140000
END:DAYLIGHT
END:VTIMEZONE
BEGIN:VEVENT
DTSTART;VALUE=DATE:20190423
DTEND;VALUE=DATE:20190429
DTSTAMP:20260424T141658
CREATED:20180803T022624Z
LAST-MODIFIED:20180803T022834Z
UID:1566-1555977600-1556495999@alpinewinetours.co.nz
SUMMARY:Arrowtown Autumn Festival
DESCRIPTION:23-28TH APRIL 2019\nJOIN US AS WE CELEBRATE AUTUMN\nAT THE 35TH AKARUA ARROWTOWN AUTUMN FESTIVAL\nThe Akarua Arrowtown Autumn Festival is entering its 35th year and we aim to celebrate in style! \nOver the 5 days you can enjoy events such as the Official Opening Ceremony\, children’s workshops\, historic walks around Arrowtown\, an outdoor movie\, Kids Scarecrow Competition\, the Art Exhibition Opening\, the Parade and Market day\, Pie\, Pint and Pinot\, the Fun Dog Show\, Senior Citizens Afternoon Tea\, plus much much more. \nThere will be lunchtime entertainment on each day between 12-1pm so pop down to Buckingham Green and check it out. Some of our events are ticketed but most are free to attend. Last year many of our events sold out so don’t leave it too late to secure your tickets. Saturday the 27th will be the biggest day where we hold our Street Parade and Market Day. The town will be buzzing with people\, street performers\, musicians and an awesome market where you can purchase NZ made goods – this is not to be missed. \nYou can also view a stunning array of vintage cars in Buckingham Street from 9am. See you all there!
URL:https://alpinewinetours.co.nz/event/arrowtown-autumn-festival/
LOCATION:Arrowtown\, Arrowtown\, Queenstown\, New Zealand
ATTACH;FMTTYPE=image/png:https://alpinewinetours.co.nz/wp-content/uploads/2018/08/Arrowtown-Autumn-Festival-Logo-300x128.png
END:VEVENT
END:VCALENDAR